BEGIN:VCALENDAR
VERSION:2.0
PRODID:-//hacksw/handcal//NONSGML v1.0//EN
BEGIN:VEVENT
DTSTART:20200130T190000
DTEND:20200130T203000
LOCATION:Ecole de Psychologues Praticiens \n23 rue du montparnasse \n75006 Paris
ORGANIZER;CN=EPP Alumni:MAILTO:anciens@psycho-prat.fr
SUMMARY:Assemblée Générale Janvier de l'EPP ALUMNI
DESCRIPTION:Chers anciens, \nNous nous réunissons le 30 Janvier 2020 de 19H à 20h30 afin de faire le point sur l'avancée de nos projets à ce stade et construire ensemble comment nous souhaitons poursuivre pour...
URL:https://www.eppalumni.com/fr/event/assemblee-generale-janvier-de-l-epp-alumni/2020/01/30/11
BEGIN:VALARM
TRIGGER:-P0DT1H0M0S
ACTION:DISPLAY
END:VALARM
END:VEVENT
END:VCALENDAR