BEGIN:VCALENDAR
VERSION:2.0
PRODID:-//hacksw/handcal//NONSGML v1.0//EN
BEGIN:VEVENT
DTSTART:20190529T190000
DTEND:20190529T210000
LOCATION:Grand Palais \n75008 Paris
ORGANIZER;CN=EPP Alumni:MAILTO:anciens@psycho-prat.fr
SUMMARY:Sortie entre Anciens - La Lune. Du voyage réel aux voyages imaginaires
DESCRIPTION:Le Mercredi 29 Mai 2019, nous vous avons proposé de nous retrouver pour découvrir cette très belle exposition "la Lune" entre Astronomie, Arts et Subjectivité, qui fut organisée par Alexia Fabre et...
URL:https://www.eppalumni.com/fr/event/sortie-entre-anciens-la-lune-du-voyage-reel-aux-voyages-imaginaires/2019/05/29/12
BEGIN:VALARM
TRIGGER:-P0DT1H0M0S
ACTION:DISPLAY
END:VALARM
END:VEVENT
END:VCALENDAR